BEGIN:VCALENDAR
VERSION:2.0
PRODID:TU Chemnitz
METHOD:PUBLISH
X-WR-CALNAME:Veranstaltungen der TU Chemnitz
X-WR-TIMEZONE:Europe/Berlin
BEGIN:VEVENT
CLASS:PUBLIC
DTSTART;TZID="Europe/Berlin":20030116T143000
DTEND;TZID="Europe/Berlin":20030116T143000
LOCATION:Reichenhainer Str. 70\, Chemnitz (Zentr. Hörsaal- und Seminargebäude)
SUMMARY:Eröffnungsveranstaltung des DFG-Graduiertenkollegs (Fakultät für Naturwissenschaften\, Institut für Physik\, DFG-Graduiertenkolleg ACCUMOL)
DESCRIPTION:Vortrag 1: "Single Molecular Spectroscopy on Multichromophor Aggregates"\nVortrag 2: "Organic Functional Nanoparticles"\n(Vorträge in Englisch)\n\nProf.Dr.Thomas Basché\,Universität Mainz (1) Prof.Dr.Klaus Müllen\, Max-Planck-Inst. Mainz (2)\nKoordinatorin Ellen Schmidt-Kampen\, Tel. 531-3007\, ellen.schmidt-kampen@physik.tu-chemnitz.de
ORGANIZER:MAILTO:iroe@hrz.tu-chemnitz.de
UID:2974@www.tu-chemnitz.de
CREATED:20021212T141100Z
DTSTAMP:20210802T202153Z
END:VEVENT
END:VCALENDAR
