BEGIN:VCALENDAR
VERSION:2.0
PRODID:TU Chemnitz
METHOD:PUBLISH
X-WR-CALNAME:Veranstaltungen der TU Chemnitz
X-WR-TIMEZONE:Europe/Berlin
BEGIN:VEVENT
CLASS:PUBLIC
DTSTART;TZID="Europe/Berlin":20021210T190000
DTEND;TZID="Europe/Berlin":20021210T203000
LOCATION:Reichenhainer Str. 70\, Chemnitz (Zentr. Hörsaal- und Seminargebäude)
SUMMARY:Vortrag: "Dialog durch die Mauer. Das umstrittene SPD-SED-Dialog-Projekt von 1987" (Philosophische Fakultät\, FB Politikwissenschaft)
DESCRIPTION:Prof. Dr. Rolf Reißig\, Berlin
ORGANIZER:MAILTO:matz@hrz.tu-chemnitz.de
UID:2951@www.tu-chemnitz.de
CREATED:20021204T163900Z
DTSTAMP:20210802T202206Z
END:VEVENT
END:VCALENDAR
