BEGIN:VCALENDAR
VERSION:2.0
PRODID:TU Chemnitz
METHOD:PUBLISH
X-WR-CALNAME:Veranstaltungen der TU Chemnitz
X-WR-TIMEZONE:Europe/Berlin
BEGIN:VEVENT
CLASS:PUBLIC
DTSTART;TZID="Europe/Berlin":20021205T203000
DTEND;TZID="Europe/Berlin":20021205T233000
LOCATION:Reichenhainer Str. 35/37\, Keller
SUMMARY:[Kino] im "mittendrin": Tote tragen keine Karos (Filmclub "mittendrin")
DESCRIPTION:Eine der besten Parodien der Filmgeschichte um  den uncoolsten aller Privatdetektive!\nBerühmt wurde der Film durch die eingeschnittenen Sequenzen aus Klassikern der 40er\, mit denen kommuniziert und auch reihenweise Utensilien getauscht werden. Genial!
ORGANIZER:MAILTO:schneid@hrz.tu-chemnitz.de
UID:2947@www.tu-chemnitz.de
CREATED:20021203T222500Z
DTSTAMP:20210802T202202Z
END:VEVENT
END:VCALENDAR
