BEGIN:VCALENDAR
VERSION:2.0
PRODID:TU Chemnitz
METHOD:PUBLISH
X-WR-CALNAME:Veranstaltungen der TU Chemnitz
X-WR-TIMEZONE:Europe/Berlin
BEGIN:VEVENT
CLASS:PUBLIC
DTSTART;TZID="Europe/Berlin":20021206T210000
DTEND;TZID="Europe/Berlin":20021207T030000
LOCATION:PEB-Studentenkeller\, Reichenhainer Str.37
SUMMARY:Salsa-Abend (PEB-Studentenkeller)
DESCRIPTION:Das Motto des Abend - tanzen\, tanzen\, tanzen...\nFür die Musik sorgt DJ Jose\, ab 21Uhr gibts einen \nTanzkurs.\nFür die Erfrischungen an der Bar sorgt das PEB-Team.
ORGANIZER:MAILTO:thein@hrz.tu-chemnitz.de
UID:2932@www.tu-chemnitz.de
CREATED:20021203T094500Z
DTSTAMP:20210802T202201Z
END:VEVENT
END:VCALENDAR
