BEGIN:VCALENDAR
VERSION:2.0
PRODID:TU Chemnitz
METHOD:PUBLISH
X-WR-CALNAME:Veranstaltungen der TU Chemnitz
X-WR-TIMEZONE:Europe/Berlin
BEGIN:VEVENT
CLASS:PUBLIC
DTSTART;TZID="Europe/Berlin":20021205T200000
DTEND;TZID="Europe/Berlin":20021205T230000
LOCATION:Kompass (flache Gebäude hinter dem Thüringer Weg 3)
SUMMARY:WuShu - Die alte Chinesische Kampfkunst (Club der Kulturen/Chinesisch-Deutscher Club)
DESCRIPTION:WuShu - die alte Chinesische Kampfkunst\n20:00 kurze Einführung in WuShu\,\n20:45 WuShu- und Nunchaku-Vorführung \n21:00 Schnuppertraining WuShu ;)\nOliver Juhrs\, Chinesisch-Deutscher Club
ORGANIZER:MAILTO:njo@hrz.tu-chemnitz.de
UID:2928@www.tu-chemnitz.de
CREATED:20021202T110500Z
DTSTAMP:20210802T202203Z
END:VEVENT
END:VCALENDAR
