BEGIN:VCALENDAR
VERSION:2.0
PRODID:TU Chemnitz
METHOD:PUBLISH
X-WR-CALNAME:Veranstaltungen der TU Chemnitz
X-WR-TIMEZONE:Europe/Berlin
BEGIN:VEVENT
CLASS:PUBLIC
DTSTART;TZID="Europe/Berlin":20030123T200000
DTEND;TZID="Europe/Berlin":20030123T230000
LOCATION:Reichenhainer Str. 55\, Chemnitz (Mensa)
SUMMARY:Diavortrag: Neuguinea - Eine Expedition in die Vergangenheit (TaC und Boofe)
DESCRIPTION:Die neueste Expedition Peer & Gil führte sie tief in \ndas Innere der wildesten Insel der Welt\, nach Neuguinea. \nSie berichten von der Kultur der Dani und Lani im \nBaliemhochtal. Ihre Expedition führt sie hinauf in \ndas gewaltige Jayawijaya-Gebirge.
ORGANIZER:MAILTO:made@hrz.tu-chemnitz.de
UID:2926@www.tu-chemnitz.de
CREATED:20021202T093500Z
DTSTAMP:20210802T202148Z
END:VEVENT
END:VCALENDAR
