BEGIN:VCALENDAR
VERSION:2.0
PRODID:TU Chemnitz
METHOD:PUBLISH
X-WR-CALNAME:Veranstaltungen der TU Chemnitz
X-WR-TIMEZONE:Europe/Berlin
BEGIN:VEVENT
CLASS:PUBLIC
DTSTART;TZID="Europe/Berlin":20021218T210000
DTEND;TZID="Europe/Berlin":20021218T235900
LOCATION:Vettersstr. 70/72\, Chemnitz (Studentenwohnheim)
SUMMARY:Die Idee im Mamorbild - Gedanken zur griechischen Plastik (bspw.)
DESCRIPTION:Das ganze hat auch einen durchaus philosphischen\nHintergrund und ist somit spannender als es klingt...\nRalf Ketscher\nbspw@tu-chemnitz.de
ORGANIZER:MAILTO:hath@hrz.tu-chemnitz.de
UID:2924@www.tu-chemnitz.de
CREATED:20021201T200600Z
DTSTAMP:20210802T202211Z
END:VEVENT
END:VCALENDAR
