BEGIN:VCALENDAR
VERSION:2.0
PRODID:TU Chemnitz
METHOD:PUBLISH
X-WR-CALNAME:Veranstaltungen der TU Chemnitz
X-WR-TIMEZONE:Europe/Berlin
BEGIN:VEVENT
CLASS:PUBLIC
DTSTART;TZID="Europe/Berlin":20021205T210000
DTEND;TZID="Europe/Berlin":20021205T235900
LOCATION:Vettersstr. 70/72\, Chemnitz (Studentenwohnheim)
SUMMARY:Die Wende (bspw.)
DESCRIPTION:Eine Auffrischung in Sachen Zeitgeschichte.\nStefan Laube\nbspw@tu-chemnitz.de
ORGANIZER:MAILTO:hath@hrz.tu-chemnitz.de
UID:2922@www.tu-chemnitz.de
CREATED:20021201T195700Z
DTSTAMP:20210802T202212Z
END:VEVENT
END:VCALENDAR
