BEGIN:VCALENDAR
VERSION:2.0
PRODID:TU Chemnitz
METHOD:PUBLISH
X-WR-CALNAME:Veranstaltungen der TU Chemnitz
X-WR-TIMEZONE:Europe/Berlin
BEGIN:VEVENT
CLASS:PUBLIC
DTSTART;TZID="Europe/Berlin":20021209T140000
DTEND;TZID="Europe/Berlin":20021209T140000
LOCATION:Str. der Nationen 62\, Chemnitz (Altes Heizhaus)
SUMMARY:"Herausforderungen für die Ingenieur-Ausbildung aus Sicht der Industrie" (Rektorat\, Fakultät für Maschinenbau und Verfahrenstechnik)
DESCRIPTION:Ernennung von Herrn Dr. Klaus Wucherer zum Honorarprofessor der TU Chemnitz und Unterzeichnung eines Kooperationsvertrages mit der Siemens AG\nProf. Dr. Klaus Wucherer\, Vorstand der Siemens AG\nDr. Renate Wißuwa\, Tel. 531-1221
ORGANIZER:MAILTO:iroe@hrz.tu-chemnitz.de
UID:2916@www.tu-chemnitz.de
CREATED:20021129T101500Z
DTSTAMP:20210802T202210Z
END:VEVENT
END:VCALENDAR
