BEGIN:VCALENDAR
VERSION:2.0
PRODID:TU Chemnitz
METHOD:PUBLISH
X-WR-CALNAME:Veranstaltungen der TU Chemnitz
X-WR-TIMEZONE:Europe/Berlin
BEGIN:VEVENT
CLASS:PUBLIC
DTSTART;TZID="Europe/Berlin":20021209T210000
DTEND;TZID="Europe/Berlin":20021209T235900
LOCATION:PEB-Studentenkeller\, Reichenhainer Str.37
SUMMARY:Erzgebirgs-Abend (PEB-Studentenkeller)
DESCRIPTION:Die Weihnachtszeit bietet eine passende Möglichkeit\,allen\nnicht von hier stammenden Studenten im Rahmen unserer\nNationalitätenabende die Kultur der hier Eingeborenen\netwas näher zu bringen. Laßt Euch überraschen!
ORGANIZER:MAILTO:thein@hrz.tu-chemnitz.de
UID:2914@www.tu-chemnitz.de
CREATED:20021128T145900Z
DTSTAMP:20210802T202207Z
END:VEVENT
END:VCALENDAR
