BEGIN:VCALENDAR
VERSION:2.0
PRODID:TU Chemnitz
METHOD:PUBLISH
X-WR-CALNAME:Veranstaltungen der TU Chemnitz
X-WR-TIMEZONE:Europe/Berlin
BEGIN:VEVENT
CLASS:PUBLIC
DTSTART;TZID="Europe/Berlin":20030225T173000
DTEND;TZID="Europe/Berlin":20030225T190000
LOCATION:Str. der Nationen 62\, Chemnitz (Böttcher-Bau)
SUMMARY:UNIX-Stammtisch in Sachsen (Universitätsrechenzentrum)
DESCRIPTION:Thema: ALSA Modular Synthesizer\nDr. Anders (Fak. f. Informatik\, TU Chemnitz)\nMatthias Ehrig\, Tel. 531-1525
ORGANIZER:MAILTO:imu@hrz.tu-chemnitz.de
UID:2913@www.tu-chemnitz.de
CREATED:20021128T105300Z
DTSTAMP:20210802T202133Z
END:VEVENT
END:VCALENDAR
