BEGIN:VCALENDAR
VERSION:2.0
PRODID:TU Chemnitz
METHOD:PUBLISH
X-WR-CALNAME:Veranstaltungen der TU Chemnitz
X-WR-TIMEZONE:Europe/Berlin
BEGIN:VEVENT
CLASS:PUBLIC
DTSTART;TZID="Europe/Berlin":19990204T173000
DTEND;TZID="Europe/Berlin":19990204T193000
LOCATION:Uni-Teil 3: Reichenhainer Str. 70\, Chemnitz (Zentr. Hörsaal- und Seminargebäude)
SUMMARY:Erfahrungen bei der Gründung innovativer Unternehmen (Fakultät für Wirtschaftswissenschaften\, Unternehmensgründung)
DESCRIPTION:Vortrag zur Sensibilisierung von Studenten\, Professoren und Mitarbeiter der TU-Chemnitz und Gasthörer zur Erhöhung der Bereitschaft für Existenzgründungen. Weitere Gesprächspartner sind Prof. Dr. C. Zanger (Marketing)\, Prof. Dr. E. Köhler (Konstruktion).\nDr. Heinz Scheibner (Geschäftsführer Lernstatt GmbH Chemnitz)\nTel. 531-8070\, E-Mail: F.Zimmermann@wirtschaft.tu-chemnitz.de
ORGANIZER:MAILTO:Torsten.Latussek@wirtschaft..tu-chemnitz.de
UID:291@www.tu-chemnitz.de
CREATED:19990115T110800Z
DTSTAMP:20210802T203507Z
END:VEVENT
END:VCALENDAR
