BEGIN:VCALENDAR
VERSION:2.0
PRODID:TU Chemnitz
METHOD:PUBLISH
X-WR-CALNAME:Veranstaltungen der TU Chemnitz
X-WR-TIMEZONE:Europe/Berlin
BEGIN:VEVENT
CLASS:PUBLIC
DTSTART;TZID="Europe/Berlin":20021127T180000
DTEND;TZID="Europe/Berlin":20021127T180000
LOCATION:Reichenhainer Str. 70\, Chemnitz (Zentr. Hörsaal- und Seminargebäude)
SUMMARY:Mit Haut und Haaren. Die neue Autonomie in der Arbeit oder der Zugriff auf das ganze Individuum (IG Metall Chemnitz\, Professur für Wirtschafts- und Sozialgeschichte)
DESCRIPTION:Dr. Klaus Peters\, Cogito-Institut für Autonomieforschung Köln\nIG Metall Chemnitz\, Monika Bunckenburg\, Tel. 0371/6660330\, Fax 0371/6660360
ORGANIZER:MAILTO:iroe@hrz.tu-chemnitz.de
UID:2906@www.tu-chemnitz.de
CREATED:20021126T154500Z
DTSTAMP:20210802T202225Z
END:VEVENT
END:VCALENDAR
