BEGIN:VCALENDAR
VERSION:2.0
PRODID:TU Chemnitz
METHOD:PUBLISH
X-WR-CALNAME:Veranstaltungen der TU Chemnitz
X-WR-TIMEZONE:Europe/Berlin
BEGIN:VEVENT
CLASS:PUBLIC
DTSTART;TZID="Europe/Berlin":20021128T190000
DTEND;TZID="Europe/Berlin":20021128T200000
LOCATION:Reichenhainer Str. 39\, Chemnitz
SUMMARY:Infoplenum (MTP - Marketing zwischen Theorie und Praxis)
DESCRIPTION:Junge\, dynamische Studenten gesucht:\nAuf dem Infoplenum erfahrt ihr alles rund um MTP!\nMTP\n0371/5313197
ORGANIZER:MAILTO:ecan@hrz.tu-chemnitz.de
UID:2902@www.tu-chemnitz.de
CREATED:20021125T140400Z
DTSTAMP:20210802T202228Z
END:VEVENT
END:VCALENDAR
