BEGIN:VCALENDAR
VERSION:2.0
PRODID:TU Chemnitz
METHOD:PUBLISH
X-WR-CALNAME:Veranstaltungen der TU Chemnitz
X-WR-TIMEZONE:Europe/Berlin
BEGIN:VEVENT
CLASS:PUBLIC
DTSTART;TZID="Europe/Berlin":19990115T104500
DTEND;TZID="Europe/Berlin":19990115T121500
LOCATION:Uni-Teil 3: Reichenhainer Str. 70\, Chemnitz (Rühlmann-Bau)
SUMMARY:Seminar des SFB393:Parallele Monte-Carlo-Simulation (Fakultät für Naturwissenschaften\, SFB 393)
DESCRIPTION:Parallele Monte-Carlo-Simulation \nkollisionsbehafteter Gas-Partikel-Stroemungen\nDr. E. Wassen
ORGANIZER:MAILTO:amey@mathematik.tu-chemnitz.de
UID:290@www.tu-chemnitz.de
CREATED:19990115T090100Z
DTSTAMP:20210802T203529Z
END:VEVENT
END:VCALENDAR
