BEGIN:VCALENDAR
VERSION:2.0
PRODID:TU Chemnitz
METHOD:PUBLISH
X-WR-CALNAME:Veranstaltungen der TU Chemnitz
X-WR-TIMEZONE:Europe/Berlin
BEGIN:VEVENT
CLASS:PUBLIC
DTSTART;TZID="Europe/Berlin":20021130T150000
DTEND;TZID="Europe/Berlin":20021130T180000
LOCATION:Reichenhainer Str. 55\, Chemnitz (Mensa)
SUMMARY:Sportkneipe mit Bundesliga im TaC
DESCRIPTION:...neuer Beamer....smili....besseres Bild....endlich \nmal wieder Bundesliga am Sonnabend...also weg\nvom Computer und in den TaC zu Kaffee und Bier...smili
ORGANIZER:MAILTO:made@hrz.tu-chemnitz.de
UID:2891@www.tu-chemnitz.de
CREATED:20021121T155600Z
DTSTAMP:20210802T202220Z
END:VEVENT
END:VCALENDAR
