BEGIN:VCALENDAR
VERSION:2.0
PRODID:TU Chemnitz
METHOD:PUBLISH
X-WR-CALNAME:Veranstaltungen der TU Chemnitz
X-WR-TIMEZONE:Europe/Berlin
BEGIN:VEVENT
CLASS:PUBLIC
DTSTART;TZID="Europe/Berlin":20021204T134500
DTEND;TZID="Europe/Berlin":20021204T151500
LOCATION:Reichenhainer Str. 70\, Chemnitz (Zentr. Hörsaal- und Seminargebäude)
SUMMARY:Teamwork in der Produktentwicklung -Effizienzsteigerungen durch Web-Technologien (Fakultät für Maschinenbau und Verfahrenstechnik\, Prof. Fertigungstechnik/Umformverfahren)
DESCRIPTION:- Prozesse und Tools im Produktlebenszyklus\n- Vorgehensmodelle und Systems Engineering\n- Produktdatenmanagement\,Workflows u. Systemarchitekturen\nDr.-Ing. Uwe Diekmann\nAndrea Junghanns\, Tel. 531 4719\, e-mail: andrea.junghanns@mbv.tu-chemnitz.de
ORGANIZER:MAILTO:junghann@hrz.tu-chemnitz.de
UID:2876@www.tu-chemnitz.de
CREATED:20021119T141900Z
DTSTAMP:20210802T202211Z
END:VEVENT
END:VCALENDAR
