BEGIN:VCALENDAR
VERSION:2.0
PRODID:TU Chemnitz
METHOD:PUBLISH
X-WR-CALNAME:Veranstaltungen der TU Chemnitz
X-WR-TIMEZONE:Europe/Berlin
BEGIN:VEVENT
CLASS:PUBLIC
DTSTART;TZID="Europe/Berlin":20021202T171500
DTEND;TZID="Europe/Berlin":20021202T190000
LOCATION:Reichenhainer Str. 70\, Chemnitz (Zentr. Hörsaal- und Seminargebäude)
SUMMARY:Aktuelle und zukünftige Berufschancen in der Fitnessbranche (Philosophische Fakultät\, Praktikumsamt)
DESCRIPTION:Veranstaltung im Rahmen der Vortragsreihe Berufsfelderkundung.\nJens Beier; FLEXX-Fitnessstudio Chemnitz\nkarla.kebsch@phil.tu-chemnitz.de
ORGANIZER:MAILTO:keka@hrz.tu-chemnitz.de
UID:2872@www.tu-chemnitz.de
CREATED:20021119T103400Z
DTSTAMP:20210802T202203Z
END:VEVENT
END:VCALENDAR
