BEGIN:VCALENDAR
VERSION:2.0
PRODID:TU Chemnitz
METHOD:PUBLISH
X-WR-CALNAME:Veranstaltungen der TU Chemnitz
X-WR-TIMEZONE:Europe/Berlin
BEGIN:VEVENT
CLASS:PUBLIC
DTSTART;TZID="Europe/Berlin":20021114T200000
DTEND;TZID="Europe/Berlin":20021114T230000
LOCATION:Reichenhainer Str. 55\, Chemnitz (Mensa)
SUMMARY:Mensa-Diavortrag: Mit Huskys durch Spitzbergen (TU Chemnitz)
DESCRIPTION:
ORGANIZER:MAILTO:made@hrz.tu-chemnitz.de
UID:2851@www.tu-chemnitz.de
CREATED:20021114T144100Z
DTSTAMP:20210802T202217Z
END:VEVENT
END:VCALENDAR
