BEGIN:VCALENDAR
VERSION:2.0
PRODID:TU Chemnitz
METHOD:PUBLISH
X-WR-CALNAME:Veranstaltungen der TU Chemnitz
X-WR-TIMEZONE:Europe/Berlin
BEGIN:VEVENT
CLASS:PUBLIC
DTSTART;TZID="Europe/Berlin":20021213T153000
DTEND;TZID="Europe/Berlin":20021213T153000
LOCATION:Reichenhainer Str. 70\, Chemnitz (Zentr. Hörsaal- und Seminargebäude)
SUMMARY:Sie leuchten und verändern sich ... (Chemnitzer Förderverein für Physik e.V.)
DESCRIPTION:"Physik\, wie Forschnung Spaß macht"\nAllgemeinverständliche Vorlesungsserie gestaltet von Mitarbeitern des Instituts für Physik der TU Chemnitz\nDr. Th. Welzel\nProf. Hietschold\, T.(0371) 531.3203\, hietschold@physik.tu-chemnitz.de
ORGANIZER:MAILTO:lfe@hrz.tu-chemnitz.de
UID:2839@www.tu-chemnitz.de
CREATED:20021114T093500Z
DTSTAMP:20210802T202207Z
END:VEVENT
END:VCALENDAR
