BEGIN:VCALENDAR
VERSION:2.0
PRODID:TU Chemnitz
METHOD:PUBLISH
X-WR-CALNAME:Veranstaltungen der TU Chemnitz
X-WR-TIMEZONE:Europe/Berlin
BEGIN:VEVENT
CLASS:PUBLIC
DTSTART;TZID="Europe/Berlin":20030510T180000
DTEND;TZID="Europe/Berlin":20030511T030000
LOCATION:Renaissance Chemnitz Hotel
SUMMARY:Fakultäts- und Absolventenball 2003 der Fakultät für Wirtschaftswissenschaften (Fachschaftsrat Wirtschaftswissenschaften)
DESCRIPTION:\n\nKartenbestellung und weitere Informationen unter http://fakball.fsrwiwi.com\n\n
ORGANIZER:MAILTO:memic@hrz.tu-chemnitz.de
UID:2832@www.tu-chemnitz.de
CREATED:20021113T181100Z
DTSTAMP:20210802T201722Z
END:VEVENT
END:VCALENDAR
