BEGIN:VCALENDAR
VERSION:2.0
PRODID:TU Chemnitz
METHOD:PUBLISH
X-WR-CALNAME:Veranstaltungen der TU Chemnitz
X-WR-TIMEZONE:Europe/Berlin
BEGIN:VEVENT
CLASS:PUBLIC
DTSTART;TZID="Europe/Berlin":20021129T200000
DTEND;TZID="Europe/Berlin":20021129T220000
LOCATION:Reichenhainer Str. 70\, Chemnitz (Zentr. Hörsaal- und Seminargebäude)
SUMMARY:"Baikal - Faszination und Mythos Sibiriens" (Baikalplan e.V. Dresden)
DESCRIPTION:Kartenverkauf über Stadthalle\, Ticketservice\, Tel.4508-722
ORGANIZER:MAILTO:iroe@hrz.tu-chemnitz.de
UID:2826@www.tu-chemnitz.de
CREATED:20021112T144500Z
DTSTAMP:20210802T202220Z
END:VEVENT
END:VCALENDAR
