BEGIN:VCALENDAR
VERSION:2.0
PRODID:TU Chemnitz
METHOD:PUBLISH
X-WR-CALNAME:Veranstaltungen der TU Chemnitz
X-WR-TIMEZONE:Europe/Berlin
BEGIN:VEVENT
CLASS:PUBLIC
DTSTART;TZID="Europe/Berlin":20030702T171500
DTEND;TZID="Europe/Berlin":20030702T184500
LOCATION:Reichenhainer Str. 70\, Chemnitz (Zentr. Hörsaal- und Seminargebäude)
SUMMARY:Computer simulations of disordered systems: ion conductors vs. supercooled liquids (TU Chemnitz\, Institut für Physik)
DESCRIPTION:Physikalisches Kolloquium\nProf. Dr. Andreas Heuer\, Universität Münster\nProf. Dr. Jens-Boie Suck\, Tel. 8033/34
ORGANIZER:MAILTO:elhi@hrz.tu-chemnitz.de
UID:2821@www.tu-chemnitz.de
CREATED:20021111T142800Z
DTSTAMP:20210802T201558Z
END:VEVENT
END:VCALENDAR
