BEGIN:VCALENDAR
VERSION:2.0
PRODID:TU Chemnitz
METHOD:PUBLISH
X-WR-CALNAME:Veranstaltungen der TU Chemnitz
X-WR-TIMEZONE:Europe/Berlin
BEGIN:VEVENT
CLASS:PUBLIC
DTSTART;TZID="Europe/Berlin":20021120T200000
DTEND;TZID="Europe/Berlin":20021120T235900
LOCATION:Reichenhainer Str. 55\, Chemnitz (Mensa)
SUMMARY:Deutschland-Niederlande + Spielkneipe
DESCRIPTION:mit neuen Beamer auf die Großleinwand..Spiel des Jahres für die Nationalmannschaft...live aus Gelsenkirchen\,\ndazu Spielkneipe-kostenlos Billard   Dart und der Caipi wie immer für 2\,50 EUR\nTaC
ORGANIZER:MAILTO:made@hrz.tu-chemnitz.de
UID:2819@www.tu-chemnitz.de
CREATED:20021111T100700Z
DTSTAMP:20210802T202224Z
END:VEVENT
END:VCALENDAR
