BEGIN:VCALENDAR
VERSION:2.0
PRODID:TU Chemnitz
METHOD:PUBLISH
X-WR-CALNAME:Veranstaltungen der TU Chemnitz
X-WR-TIMEZONE:Europe/Berlin
BEGIN:VEVENT
CLASS:PUBLIC
DTSTART;TZID="Europe/Berlin":20030129T171500
DTEND;TZID="Europe/Berlin":20030129T183500
LOCATION:Reichenhainer Str. 70\, Chemnitz (Zentr. Hörsaal- und Seminargebäude)
SUMMARY:Unternehmensnachfolge als Perspektive für Gründer (Fakultät für Maschinenbau und Verfahrenstechnik)
DESCRIPTION:Prof. Dr. Kajo Schommer
ORGANIZER:MAILTO:fihe@hrz.tu-chemnitz.de
UID:2813@www.tu-chemnitz.de
CREATED:20021111T080000Z
DTSTAMP:20210802T202150Z
END:VEVENT
END:VCALENDAR
