BEGIN:VCALENDAR
VERSION:2.0
PRODID:TU Chemnitz
METHOD:PUBLISH
X-WR-CALNAME:Veranstaltungen der TU Chemnitz
X-WR-TIMEZONE:Europe/Berlin
BEGIN:VEVENT
CLASS:PUBLIC
DTSTART;TZID="Europe/Berlin":20021127T180000
DTEND;TZID="Europe/Berlin":20021127T193000
LOCATION:Reichenhainer Str. 39\, Chemnitz
SUMMARY:Die Wörter Europas. Lexikologie des europäischen Sprachbunds (Philosophische Fakultät\, Romanische Sprachwissenschaft)
DESCRIPTION:PD Dr. Rainer Schlösser\, Universität Jena\nMatthias Heinz\, Tel.: 5 31 39 96\, matthias.heinz@phil.tu-chemnitz.de
ORGANIZER:MAILTO:chgu@hrz.tu-chemnitz.de
UID:2801@www.tu-chemnitz.de
CREATED:20021107T131500Z
DTSTAMP:20210802T202228Z
END:VEVENT
END:VCALENDAR
