BEGIN:VCALENDAR
VERSION:2.0
PRODID:TU Chemnitz
METHOD:PUBLISH
X-WR-CALNAME:Veranstaltungen der TU Chemnitz
X-WR-TIMEZONE:Europe/Berlin
BEGIN:VEVENT
CLASS:PUBLIC
DTSTART;TZID="Europe/Berlin":20021206T091500
DTEND;TZID="Europe/Berlin":20021206T104500
LOCATION:Reichenhainer Str. 70\, Chemnitz (Zentr. Hörsaal- und Seminargebäude)
SUMMARY:Sport und Wirtschaft (Philosophische Fakultät\, Fachgebiet Sport\, Sportwissenschaft III)
DESCRIPTION:Dr. S. Mohr (METRUM Managementberatung GmbH\, München)\nmanuela.trillitzsch@wirtschaft.tu-chemnitz.de
ORGANIZER:MAILTO:trma@hrz.tu-chemnitz.de
UID:2773@www.tu-chemnitz.de
CREATED:20021104T124700Z
DTSTAMP:20210802T202211Z
END:VEVENT
END:VCALENDAR
