BEGIN:VCALENDAR
VERSION:2.0
PRODID:TU Chemnitz
METHOD:PUBLISH
X-WR-CALNAME:Veranstaltungen der TU Chemnitz
X-WR-TIMEZONE:Europe/Berlin
BEGIN:VEVENT
CLASS:PUBLIC
DTSTART;TZID="Europe/Berlin":20021214T200000
DTEND;TZID="Europe/Berlin":20021214T220000
LOCATION:Reichenhainer Str. 70\, Chemnitz (Zentr. Hörsaal- und Seminargebäude)
SUMMARY:Weihnachtsoratorium\, Kantaten 4-6 (TU Chemnitz\, Collegium musicum)
DESCRIPTION:Collegium musicum der TU Chemnitz\nACHTUNG: geänderte Anfangszeit !
ORGANIZER:MAILTO:meh@hrz.tu-chemnitz.de
UID:2765@www.tu-chemnitz.de
CREATED:20021101T120900Z
DTSTAMP:20210802T202204Z
END:VEVENT
END:VCALENDAR
