BEGIN:VCALENDAR
VERSION:2.0
PRODID:TU Chemnitz
METHOD:PUBLISH
X-WR-CALNAME:Veranstaltungen der TU Chemnitz
X-WR-TIMEZONE:Europe/Berlin
BEGIN:VEVENT
CLASS:PUBLIC
DTSTART;TZID="Europe/Berlin":20021028T210000
DTEND;TZID="Europe/Berlin":20021029T010000
LOCATION:Reichenhainer Str.37
SUMMARY:Bayrischer Abend im PEB-Studentenkeller (PEB-Studentenkeller)
DESCRIPTION:Hallo Leute\,\n\nab heute starten die Nationalitätenabende im PEB (aller 2 Wochen). Wir beginnen mit dem netten Völkchen der Bayern.\nSpecials: Bier in Maßkrügen (geht natürlich auch ohne)\n          Leberkaas\, Saure Zipfel und Brezen\n          Beerwurz
ORGANIZER:MAILTO:kkru@hrz.tu-chemnitz.de
UID:2748@www.tu-chemnitz.de
CREATED:20021025T122100Z
DTSTAMP:20210802T202241Z
END:VEVENT
END:VCALENDAR
