BEGIN:VCALENDAR
VERSION:2.0
PRODID:TU Chemnitz
METHOD:PUBLISH
X-WR-CALNAME:Veranstaltungen der TU Chemnitz
X-WR-TIMEZONE:Europe/Berlin
BEGIN:VEVENT
CLASS:PUBLIC
DTSTART;TZID="Europe/Berlin":20021231T200000
DTEND;TZID="Europe/Berlin":20030101T060000
LOCATION:PEB-Studentenkeller\, Reichenhainer Str.37
SUMMARY:PEB-Silvesterparty (PEB-Studentenkeller)
DESCRIPTION:Auch dieses Jahr - die beliebte Jahresabschlußparty in\nallen drei Räumen des Studentenkeller. Natürlich wieder mit \ndem schon fast legendären Buffet und ausgewählten Cocktails.\nEintritt: AUSVERKAUFT!!!!!\nVorbestellung: 0371/5613788 oder peb-club@tu-chemnitz.de
ORGANIZER:MAILTO:thein@hrz.tu-chemnitz.de
UID:2745@www.tu-chemnitz.de
CREATED:20021023T103400Z
DTSTAMP:20210802T202205Z
END:VEVENT
END:VCALENDAR
