BEGIN:VCALENDAR
VERSION:2.0
PRODID:TU Chemnitz
METHOD:PUBLISH
X-WR-CALNAME:Veranstaltungen der TU Chemnitz
X-WR-TIMEZONE:Europe/Berlin
BEGIN:VEVENT
CLASS:PUBLIC
DTSTART;TZID="Europe/Berlin":20021127T193000
DTEND;TZID="Europe/Berlin":20021127T193000
LOCATION:Reichenhainer Str. 55\, Chemnitz (Mensa)
SUMMARY:Dia Show "ACONCAGUA - Das Dach Amerikas" (Deutscher Alpenverein e.V. Sektion Chemnitz)
DESCRIPTION:Mike Glänzel\nTe. 0170-7669560
ORGANIZER:MAILTO:iroe@hrz.tu-chemnitz.de
UID:2744@www.tu-chemnitz.de
CREATED:20021023T095000Z
DTSTAMP:20210802T202224Z
END:VEVENT
END:VCALENDAR
