BEGIN:VCALENDAR
VERSION:2.0
PRODID:TU Chemnitz
METHOD:PUBLISH
X-WR-CALNAME:Veranstaltungen der TU Chemnitz
X-WR-TIMEZONE:Europe/Berlin
BEGIN:VEVENT
CLASS:PUBLIC
DTSTART;TZID="Europe/Berlin":20021029T153000
DTEND;TZID="Europe/Berlin":20021029T170000
LOCATION:Reichenhainer Str. 70\, Chemnitz (Rühlmann-Bau)
SUMMARY:Das Ausbildungskonzept der dm Märkte (Philosophische Fakultät\, Fachgebiet Berufs- und Wirtschaftspädagogik)
DESCRIPTION:Darstellung des spezifischen Ausbildungskonzeptes der dm Märkte.\nFrau Grenzius\n0371 531 39o6
ORGANIZER:MAILTO:woll@hrz.tu-chemnitz.de
UID:2740@www.tu-chemnitz.de
CREATED:20021022T124800Z
DTSTAMP:20210802T202247Z
END:VEVENT
END:VCALENDAR
