BEGIN:VCALENDAR
VERSION:2.0
PRODID:TU Chemnitz
METHOD:PUBLISH
X-WR-CALNAME:Veranstaltungen der TU Chemnitz
X-WR-TIMEZONE:Europe/Berlin
BEGIN:VEVENT
CLASS:PUBLIC
DTSTART;TZID="Europe/Berlin":20030108T171500
DTEND;TZID="Europe/Berlin":20030108T184500
LOCATION:Wilhelm-Raabe-Str. 43\, Chemnitz
SUMMARY:Institutskolloquium: "Entwicklung von Assistenzsystemen mit ingenieurpsychologischen Werkzeugen" (Philosophische Fakultät\, Institut für Psychologie)
DESCRIPTION:Prof. Dr. Hartmut Wandke\, Humboldt-Universität Berlin\nDipl.-Psych. F. Machilek\, Tel.: 0371/531-6309\, franz.machilek@phil.tu-chemnitz.de
ORGANIZER:MAILTO:pfl@hrz.tu-chemnitz.de
UID:2738@www.tu-chemnitz.de
CREATED:20021022T082600Z
DTSTAMP:20210802T202147Z
END:VEVENT
END:VCALENDAR
