BEGIN:VCALENDAR
VERSION:2.0
PRODID:TU Chemnitz
METHOD:PUBLISH
X-WR-CALNAME:Veranstaltungen der TU Chemnitz
X-WR-TIMEZONE:Europe/Berlin
BEGIN:VEVENT
CLASS:PUBLIC
DTSTART;TZID="Europe/Berlin":20021017T200000
DTEND;TZID="Europe/Berlin":20021017T235900
LOCATION:Reichenhainer Str. 55\, Chemnitz (Mensa)
SUMMARY:Kneipe + Billard im TAC (TU Chemnitz)
DESCRIPTION:
ORGANIZER:MAILTO:made@hrz.tu-chemnitz.de
UID:2707@www.tu-chemnitz.de
CREATED:20021017T104900Z
DTSTAMP:20210802T202247Z
END:VEVENT
END:VCALENDAR
