BEGIN:VCALENDAR
VERSION:2.0
PRODID:TU Chemnitz
METHOD:PUBLISH
X-WR-CALNAME:Veranstaltungen der TU Chemnitz
X-WR-TIMEZONE:Europe/Berlin
BEGIN:VEVENT
CLASS:PUBLIC
DTSTART;TZID="Europe/Berlin":20021119T080000
DTEND;TZID="Europe/Berlin":20021126T220000
LOCATION:Reichenhainer Str. 55\, Chemnitz (Mensa)
SUMMARY:Ausstellung "Campus - wohin?" (TU Chemnitz\, Bauhaus-Universität Weimar und Studentenwerk Chemnitz-Zwickau)
DESCRIPTION:Präsentiert werden studentische Arbeiten der TU Chemnitz\nund der Bauhaus-Universität Weimar zur Gestaltung des \nChemnitzer Campus (u.a. Visionen zur Instituts-Ansiedlung \nbis hin zum Olympischen Jugendcamp 2012)\nSa. & So. ist die Mensa geschlossen!\n\nProf. Dr. Reinhard Erfurth\, Tel. (0371) 36 69 - 0
ORGANIZER:MAILTO:mstein@hrz.tu-chemnitz.de
UID:2698@www.tu-chemnitz.de
CREATED:20021015T144500Z
DTSTAMP:20210802T202222Z
END:VEVENT
END:VCALENDAR
