BEGIN:VCALENDAR
VERSION:2.0
PRODID:TU Chemnitz
METHOD:PUBLISH
X-WR-CALNAME:Veranstaltungen der TU Chemnitz
X-WR-TIMEZONE:Europe/Berlin
BEGIN:VEVENT
CLASS:PUBLIC
DTSTART;TZID="Europe/Berlin":20021118T190000
DTEND;TZID="Europe/Berlin":20021118T220000
LOCATION:Reichenhainer Str. 70\, Chemnitz (Rühlmann-Bau)
SUMMARY:Praktikum und Studium im Ausland (IAESTE Chemnitz)
DESCRIPTION:So einfach gehts ins Ausland!! IAESTE Chemnitz zeigt euch den Weg zu einem Praktikum jenseits deutscher Grenzen. Frau Lorenz vom IUK informiert übers Auslandsstudium.\nSchaut es euch einfach an.\n\nWir sehen uns!\nIAESTE Chemnitz\, M. Lorenz (IUK)\niaeste@tu-chemnitz.de
ORGANIZER:MAILTO:rahe@hrz.tu-chemnitz.de
UID:2693@www.tu-chemnitz.de
CREATED:20021014T225900Z
DTSTAMP:20210802T202228Z
END:VEVENT
END:VCALENDAR
