BEGIN:VCALENDAR
VERSION:2.0
PRODID:TU Chemnitz
METHOD:PUBLISH
X-WR-CALNAME:Veranstaltungen der TU Chemnitz
X-WR-TIMEZONE:Europe/Berlin
BEGIN:VEVENT
CLASS:PUBLIC
DTSTART;TZID="Europe/Berlin":20030514T171500
DTEND;TZID="Europe/Berlin":20030514T184500
LOCATION:Reichenhainer Str. 70\, Chemnitz (Zentr. Hörsaal- und Seminargebäude)
SUMMARY:Stabilität und Transport in Nanokontakten (TU Chemnitz\, Institut für Physik)
DESCRIPTION:Physikalisches Kolloquium\nProf. Ingrid Mertig\, Martin-Luther-Universität Halle\nProf. Dr. Michael Hietschold\, Tel. 3203
ORGANIZER:MAILTO:elhi@hrz.tu-chemnitz.de
UID:2691@www.tu-chemnitz.de
CREATED:20021014T154500Z
DTSTAMP:20210802T201727Z
END:VEVENT
END:VCALENDAR
