BEGIN:VCALENDAR
VERSION:2.0
PRODID:TU Chemnitz
METHOD:PUBLISH
X-WR-CALNAME:Veranstaltungen der TU Chemnitz
X-WR-TIMEZONE:Europe/Berlin
BEGIN:VEVENT
CLASS:PUBLIC
DTSTART;TZID="Europe/Berlin":20030110T110000
DTEND;TZID="Europe/Berlin":20030110T160000
LOCATION:Reichenhainer Str. 70\, Chemnitz (Zentr. Hörsaal- und Seminargebäude)
SUMMARY:Wissenschaftliches Formulieren und Argumentieren (Schreibzentrum im Fachgebiet Germanistik / Fachschaft der Philosophischen Fakultaet)
DESCRIPTION:Inhalt: Charakteristika und Probleme des Wissenschaftsstils\, Argumentationstechniken etc.\nempfohlen für Studierende aller Semester\n\nDr. Michael Klemm\nDr. Michael Klemm\, michael.klemm@phil.tu-chemnitz.de\, Anmeldung online auf Homepage Schreibzentrum unter [Veranstaltungen]
ORGANIZER:MAILTO:mkl@hrz.tu-chemnitz.de
UID:2684@www.tu-chemnitz.de
CREATED:20021009T154100Z
DTSTAMP:20210802T202149Z
END:VEVENT
END:VCALENDAR
