BEGIN:VCALENDAR
VERSION:2.0
PRODID:TU Chemnitz
METHOD:PUBLISH
X-WR-CALNAME:Veranstaltungen der TU Chemnitz
X-WR-TIMEZONE:Europe/Berlin
BEGIN:VEVENT
CLASS:PUBLIC
DTSTART;TZID="Europe/Berlin":20021213T110000
DTEND;TZID="Europe/Berlin":20021213T160000
LOCATION:Reichenhainer Str. 70\, Chemnitz (Zentr. Hörsaal- und Seminargebäude)
SUMMARY:Vom Lesen zum Schreiben: Techniken des wissenschaftlichen Lesens (Schreibzentrum im Fachgebiet Germanistik / Fachschaft der Philosophischen Fakultät)
DESCRIPTION:Inhalt: Literaturrecherche\, Lesetechniken\, Transfer des Gelesenen in Seminararbeit etc. \nempfohlen für Studierende aller Semester\nBeitrag: 8 Euro\nDr. Michael Klemm\nDr. Michael Klemm\, michael.klemm@phil.tu-chemnitz.de\, Anmeldung online auf Homepage Schreibzentrum unter [Veranstaltungen]
ORGANIZER:MAILTO:mkl@hrz.tu-chemnitz.de
UID:2683@www.tu-chemnitz.de
CREATED:20021009T153700Z
DTSTAMP:20210802T202210Z
END:VEVENT
END:VCALENDAR
