BEGIN:VCALENDAR
VERSION:2.0
PRODID:TU Chemnitz
METHOD:PUBLISH
X-WR-CALNAME:Veranstaltungen der TU Chemnitz
X-WR-TIMEZONE:Europe/Berlin
BEGIN:VEVENT
CLASS:PUBLIC
DTSTART;TZID="Europe/Berlin":20021005T150000
DTEND;TZID="Europe/Berlin":20021005T180000
LOCATION:Reichenhainer Str. 55\, Chemnitz (Mensa)
SUMMARY:Bundesliga-Kneipe im TAC (TU Chemnitz)
DESCRIPTION:
ORGANIZER:MAILTO:made@hrz.tu-chemnitz.de
UID:2667@www.tu-chemnitz.de
CREATED:20021004T121100Z
DTSTAMP:20210802T202243Z
END:VEVENT
END:VCALENDAR
