BEGIN:VCALENDAR
VERSION:2.0
PRODID:TU Chemnitz
METHOD:PUBLISH
X-WR-CALNAME:Veranstaltungen der TU Chemnitz
X-WR-TIMEZONE:Europe/Berlin
BEGIN:VEVENT
CLASS:PUBLIC
DTSTART;TZID="Europe/Berlin":20021015T100000
DTEND;TZID="Europe/Berlin":20021015T120000
LOCATION:Reichenhainer Str. 70\, Chemnitz (Rühlmann-Bau)
SUMMARY:Menschliche Einflüsse auf das Qualitätsmanagement (Fakultät für Maschinenbau und Verfahrenstechnik\, SFB 283 mit IFMQ und DGQ-Regionalkreis Chemnitz)
DESCRIPTION:Darstellung von Forschungsergebnissen zu menschlichen \nEinflüssen bei der Gestaltung von Qualitätsmanagement-\nsystemen\nProf. Edita Hekelova\, Universität Bratislava\nDr. Althaus; 0371 531 2266
ORGANIZER:MAILTO:kalt@hrz.tu-chemnitz.de
UID:2664@www.tu-chemnitz.de
CREATED:20021004T111600Z
DTSTAMP:20210802T202242Z
END:VEVENT
END:VCALENDAR
