BEGIN:VCALENDAR
VERSION:2.0
PRODID:TU Chemnitz
METHOD:PUBLISH
X-WR-CALNAME:Veranstaltungen der TU Chemnitz
X-WR-TIMEZONE:Europe/Berlin
BEGIN:VEVENT
CLASS:PUBLIC
DTSTART;TZID="Europe/Berlin":20021002T200000
DTEND;TZID="Europe/Berlin":20021002T235900
LOCATION:Reichenhainer Str. 55\, Chemnitz (Mensa)
SUMMARY:Sportkneipchen im TaC (Studentenwerk\, TaC)
DESCRIPTION:Livespiel: Dortmund
ORGANIZER:MAILTO:made@hrz.tu-chemnitz.de
UID:2663@www.tu-chemnitz.de
CREATED:20021002T181100Z
DTSTAMP:20210802T202251Z
END:VEVENT
END:VCALENDAR
