BEGIN:VCALENDAR
VERSION:2.0
PRODID:TU Chemnitz
METHOD:PUBLISH
X-WR-CALNAME:Veranstaltungen der TU Chemnitz
X-WR-TIMEZONE:Europe/Berlin
BEGIN:VEVENT
CLASS:PUBLIC
DTSTART;TZID="Europe/Berlin":20021029T173000
DTEND;TZID="Europe/Berlin":20021029T190000
LOCATION:Str. der Nationen 62\, Chemnitz (Böttcher-Bau)
SUMMARY:UNIX-Stammtisch in Sachsen (Universitätsrechenzentrum)
DESCRIPTION:Thema: OCR-Praxis unter UNIX
ORGANIZER:MAILTO:imu@hrz.tu-chemnitz.de
UID:2660@www.tu-chemnitz.de
CREATED:20021001T155300Z
DTSTAMP:20210802T202249Z
END:VEVENT
END:VCALENDAR
