BEGIN:VCALENDAR
VERSION:2.0
PRODID:TU Chemnitz
METHOD:PUBLISH
X-WR-CALNAME:Veranstaltungen der TU Chemnitz
X-WR-TIMEZONE:Europe/Berlin
BEGIN:VEVENT
CLASS:PUBLIC
DTSTART;TZID="Europe/Berlin":20021024T160000
DTEND;TZID="Europe/Berlin":20021024T180000
LOCATION:Str. der Nationen 62\, Chemnitz (Böttcher-Bau)
SUMMARY:Synthese und katalytische Aktivität von Rhodiumkomplexen auf Phosphino-funktionalisierter Polyvinylalkohol-Basis (Fakultät für Naturwissenschaften\, Institut für Chemie)
DESCRIPTION:Dr. Olaf Walter\, Institut für Technische Chemie - Chemisch-Physikalische Verfahren\, Forschungszentrum Karlsruhe GmbH\nProf. Dr. H. Lang\, fon: 371 531-1200\, fax: 371 531-1833\, e-mail: heinrich.lang@chemie.tu-chemnitz.de
ORGANIZER:MAILTO:erah@hrz.tu-chemnitz.de
UID:2648@www.tu-chemnitz.de
CREATED:20020925T114700Z
DTSTAMP:20210802T202253Z
END:VEVENT
END:VCALENDAR
