BEGIN:VCALENDAR
VERSION:2.0
PRODID:TU Chemnitz
METHOD:PUBLISH
X-WR-CALNAME:Veranstaltungen der TU Chemnitz
X-WR-TIMEZONE:Europe/Berlin
BEGIN:VEVENT
CLASS:PUBLIC
DTSTART;TZID="Europe/Berlin":20030121T171500
DTEND;TZID="Europe/Berlin":20030121T184500
LOCATION:Wilhelm-Raabe-Str. 43\, Chemnitz
SUMMARY:Institutskolloquium: "Between acceptance and alienation. Polish collective identity after communism." (Philosophische Fakultät\, Institut für Psychologie)
DESCRIPTION:Dr. Leszek Porebski\, University of Mining and Metallurgy Krakau\nDipl.-Psych. F. Machilek\, Tel. 0371/531-6309\, franz.machilek@phil.tu-chemnitz.de
ORGANIZER:MAILTO:pfl@hrz.tu-chemnitz.de
UID:2646@www.tu-chemnitz.de
CREATED:20020924T134700Z
DTSTAMP:20210802T202143Z
END:VEVENT
END:VCALENDAR
