BEGIN:VCALENDAR
VERSION:2.0
PRODID:TU Chemnitz
METHOD:PUBLISH
X-WR-CALNAME:Veranstaltungen der TU Chemnitz
X-WR-TIMEZONE:Europe/Berlin
BEGIN:VEVENT
CLASS:PUBLIC
DTSTART;TZID="Europe/Berlin":20020917T200000
DTEND;TZID="Europe/Berlin":20020917T200000
LOCATION:Reichenhainer Str. 55\, Chemnitz (Mensa)
SUMMARY:Champions League im TaC (Studentenclub TaC)
DESCRIPTION:Dortmund - Arsenal London\nStudentenclub TaC
ORGANIZER:MAILTO:made@hrz.tu-chemnitz.de
UID:2628@www.tu-chemnitz.de
CREATED:20020916T170600Z
DTSTAMP:20210802T202323Z
END:VEVENT
END:VCALENDAR
