BEGIN:VCALENDAR
VERSION:2.0
PRODID:TU Chemnitz
METHOD:PUBLISH
X-WR-CALNAME:Veranstaltungen der TU Chemnitz
X-WR-TIMEZONE:Europe/Berlin
BEGIN:VEVENT
CLASS:PUBLIC
DTSTART;TZID="Europe/Berlin":20021017T170000
DTEND;TZID="Europe/Berlin":20021017T190000
LOCATION:TCC Chemnitz\, Annaberger Str. 240
SUMMARY:Projektmanagement als wichtiges Kriterium für die Marktfähigkeit von Unternehmen (DGQ-Regionalkreis Chemnitz)
DESCRIPTION:Informationen zu durchgeführten Projekten und Ableitung von Erfahrungen für die Marktfähigkeit von Unternehmen\nDr. Rößler\, RKW Sachsen\nDGQ-Obmann Dr. Althaus; Tel.: (0371) 531 2266
ORGANIZER:MAILTO:kalt@hrz.tu-chemnitz.de
UID:2625@www.tu-chemnitz.de
CREATED:20020912T132600Z
DTSTAMP:20210802T202251Z
END:VEVENT
END:VCALENDAR
