BEGIN:VCALENDAR
VERSION:2.0
PRODID:TU Chemnitz
METHOD:PUBLISH
X-WR-CALNAME:Veranstaltungen der TU Chemnitz
X-WR-TIMEZONE:Europe/Berlin
BEGIN:VEVENT
CLASS:PUBLIC
DTSTART;TZID="Europe/Berlin":19990119T153000
DTEND;TZID="Europe/Berlin":19990119T153000
LOCATION:IPMT/TIDZ der Gesellschaft für Forschung und Entwicklung e.V. Chemnitz\, Lassallestr. 14\, Chemnitz-Siegmar
SUMMARY:1.Vortrag: "Magnetpulverprüfung - Stand der Technik"\, 2.Vortrag: "Magnetinduktive Werkstoffprüfung" (Fakultät für Maschinenbau und Verfahrenstechnik)
DESCRIPTION:zu 1.) Dipl.-Ing. Joachim Krebs\, Fa. Tiede\, Essingen; zu 2.) Dipl.-Ing. Christoph Knorr\, HTM Chemnitz\nDipl.-Ing. Ulrich Thieme\, Tel. 33 63 22
ORGANIZER:MAILTO:iroe@hrz.tu-chemnitz.de
UID:260@www.tu-chemnitz.de
CREATED:19990107T130200Z
DTSTAMP:20210802T203530Z
END:VEVENT
END:VCALENDAR
