BEGIN:VCALENDAR
VERSION:2.0
PRODID:TU Chemnitz
METHOD:PUBLISH
X-WR-CALNAME:Veranstaltungen der TU Chemnitz
X-WR-TIMEZONE:Europe/Berlin
BEGIN:VEVENT
CLASS:PUBLIC
DTSTART;TZID="Europe/Berlin":20020815T210000
DTEND;TZID="Europe/Berlin":20020815T230000
LOCATION:Reichenhainer Str. 35/37 09126 Chemnitz
SUMMARY:Filmclub mittendrin: Das Experiment (Filmclub mittendrin)
DESCRIPTION:Psychologisches Spiel für Erwachsene\, die eigentlich wissen wollten\, was in ihnen steckt und letztlich Dinge sehen\, die sie nie sehen wollten.\n\nEinlass: 20.30 Uhr\nFilmbeginn: 21.00 Uhr
ORGANIZER:MAILTO:fuh@hrz.tu-chemnitz.de
UID:2598@www.tu-chemnitz.de
CREATED:20020815T111200Z
DTSTAMP:20210802T202358Z
END:VEVENT
END:VCALENDAR
