BEGIN:VCALENDAR
VERSION:2.0
PRODID:TU Chemnitz
METHOD:PUBLISH
X-WR-CALNAME:Veranstaltungen der TU Chemnitz
X-WR-TIMEZONE:Europe/Berlin
BEGIN:VEVENT
CLASS:PUBLIC
DTSTART;TZID="Europe/Berlin":20021204T171500
DTEND;TZID="Europe/Berlin":20021204T184500
LOCATION:Reichenhainer Str. 70\, Chemnitz (Zentr. Hörsaal- und Seminargebäude)
SUMMARY:Plastiksolarzellen aus konjugierten Kunststoffen (TU Chemnitz\, Institut für Physik)
DESCRIPTION:Physikalisches Kolloquium\nProf. Dr. N. S. Sariciftci\, Johannes-Kepler- Universität Linz\nProf. Dr. Michael Hietschold\, Tel. 3203
ORGANIZER:MAILTO:elhi@hrz.tu-chemnitz.de
UID:2580@www.tu-chemnitz.de
CREATED:20020805T122700Z
DTSTAMP:20210802T202212Z
END:VEVENT
END:VCALENDAR
